BEGIN:VCALENDAR
VERSION:2.0
PRODID:-//Talks.cam//talks.cam.ac.uk//
X-WR-CALNAME:Talks.cam
BEGIN:VEVENT
SUMMARY:Title TBC - Dmitry  Gourevitch (Weizmann Institute of Science)
DTSTART:20260716T143000Z
DTEND:20260716T153000Z
UID:TALK246862@talks.cam.ac.uk
CONTACT:Robert Barczyk
DESCRIPTION:
END:VEVENT
END:VCALENDAR
