BEGIN:VCALENDAR
VERSION:2.0
PRODID:-//Talks.cam//talks.cam.ac.uk//
X-WR-CALNAME:Talks.cam
BEGIN:VEVENT
SUMMARY:Mathematical modelling of future energy systems - Bialek\, J (Durh
 am)
DTSTART:20100526T143000Z
DTEND:20100526T150000Z
UID:TALK25004@talks.cam.ac.uk
CONTACT:Mustapha Amrani
DESCRIPTION:Future energy networks will feature greatly increased interact
 ion between heat\, transport and electricity networks\, as well as much gr
 eater storage\, active demand\, and stochastic-output renewable generation
  in electricity systems\; moreover\, it is likely that inter-continental s
 cale networks will be developed to link from renewable sources (e.g. Sahar
 an solar and hydro from Europe's mountain areas) with demand centres. This
  presentation will discuss the modelling challenges posed by the changing 
 nature of electrical power systems\, in terms of real-time control\, marke
 t structures\, and supply adequacy risk modelling.\n\n
LOCATION:Seminar Room 1\, Newton Institute
END:VEVENT
END:VCALENDAR
