BEGIN:VCALENDAR
VERSION:2.0
PRODID:-//Talks.cam//talks.cam.ac.uk//
X-WR-CALNAME:Talks.cam
BEGIN:VEVENT
SUMMARY:CMS electricity usage: 8835.0 kWh on 10/06/10 - Previous day: 8744
 .5 kWh
DTSTART:20100612T000000Z
DTEND:20100612T010000Z
UID:TALK25242@talks.cam.ac.uk
CONTACT:Dankrad Feist
DESCRIPTION:
LOCATION:Average on weekdays: 8726.83333333 kWh
END:VEVENT
END:VCALENDAR
