BEGIN:VCALENDAR
VERSION:2.0
PRODID:-//Talks.cam//talks.cam.ac.uk//
X-WR-CALNAME:Talks.cam
BEGIN:VEVENT
SUMMARY:Microsoft Research Summer School Posters session 3 - Several speak
 ers
DTSTART:20100701T113000Z
DTEND:20100701T130000Z
UID:TALK25245@talks.cam.ac.uk
CONTACT:Dr Fabien Petitcolas
DESCRIPTION:A dozen of computer science related posters presented by PhD s
 tudents from the University of Cambridge and few other European universiti
 es.\n\nList of posters in this session:\nhttp://research.microsoft.com/en-
 us/events/2010summerschool/#Posters_3
LOCATION:Microsoft Research\, Roger Needham Building\, 7 J J Thomson Avenu
 e\, Cambridge CB3 0FB
END:VEVENT
END:VCALENDAR
