BEGIN:VCALENDAR
VERSION:2.0
PRODID:-//Talks.cam//talks.cam.ac.uk//
X-WR-CALNAME:Talks.cam
BEGIN:VEVENT
SUMMARY:The social biology of sucrose utilization in yeast: I might like y
 ou better if we stuck together - Andrew Murray\, Department of Molecular C
 ell Biology\, Harvard University\, Boston\, USA
DTSTART:20100929T163000Z
DTEND:20100929T173000Z
UID:TALK25276@talks.cam.ac.uk
CONTACT:Duncan Simpson
DESCRIPTION:Abstract not available
LOCATION:MR2\, Centre for Mathematical Sciences\, Wilberforce Road\, Cambr
 idge
END:VEVENT
END:VCALENDAR
