BEGIN:VCALENDAR
VERSION:2.0
PRODID:-//Talks.cam//talks.cam.ac.uk//
X-WR-CALNAME:Talks.cam
BEGIN:VEVENT
SUMMARY:The long march of the human genes. - Dr. Andrea Manica\, Dept. of 
 Zoology\, Cambridge University
DTSTART:20101123T160000Z
DTEND:20101123T170000Z
UID:TALK25523@talks.cam.ac.uk
CONTACT:18641
DESCRIPTION:Abstract not available
LOCATION:Part II Lecture Theatre\, Department of Zoology
END:VEVENT
END:VCALENDAR
