BEGIN:VCALENDAR
VERSION:2.0
PRODID:-//Talks.cam//talks.cam.ac.uk//
X-WR-CALNAME:Talks.cam
BEGIN:VEVENT
SUMMARY:Sympatric speciation on islands - Vincent Savolainen\, Imperial Co
 llege London & Royal Botanic Gardens Kew
DTSTART:20101019T150000Z
DTEND:20101019T160000Z
UID:TALK25620@talks.cam.ac.uk
CONTACT:Chris Jiggins
DESCRIPTION:Abstract not available
LOCATION:Part II Lecture Theatre\, Department of Zoology
END:VEVENT
END:VCALENDAR
