BEGIN:VCALENDAR
VERSION:2.0
PRODID:-//Talks.cam//talks.cam.ac.uk//
X-WR-CALNAME:Talks.cam
BEGIN:VEVENT
SUMMARY:Title to be confirmed - Laurence Aitchison (University of Cambridg
 e)
DTSTART:20100816T100000Z
DTEND:20100816T110000Z
UID:TALK25631@talks.cam.ac.uk
CONTACT:Philip Sterne
DESCRIPTION:Abstract not available
LOCATION:TCM Seminar Room\, Cavendish Laboratory\, Department of Physics
END:VEVENT
END:VCALENDAR
