BEGIN:VCALENDAR
VERSION:2.0
PRODID:-//Talks.cam//talks.cam.ac.uk//
X-WR-CALNAME:Talks.cam
BEGIN:VEVENT
SUMMARY:Recent progress and future outlook for kinetic simulations of magn
 etic reconnection - Daughton\, B (Los Alamos)
DTSTART:20100726T080000Z
DTEND:20100726T084000Z
UID:TALK25637@talks.cam.ac.uk
CONTACT:Mustapha Amrani
DESCRIPTION:
LOCATION:Seminar Room 2\, Newton Institute Gatehouse
END:VEVENT
END:VCALENDAR
