BEGIN:VCALENDAR
VERSION:2.0
PRODID:-//Talks.cam//talks.cam.ac.uk//
X-WR-CALNAME:Talks.cam
BEGIN:VEVENT
SUMMARY:Getting a sense of time for massive radiations in Lepidoptera - Ni
 klas Wahlberg\, University of Turku
DTSTART:20101005T150000Z
DTEND:20101005T160000Z
UID:TALK25696@talks.cam.ac.uk
CONTACT:Chris Jiggins
DESCRIPTION:Abstract not available
LOCATION:Part II Lecture Theatre\, Department of Zoology
END:VEVENT
END:VCALENDAR
