BEGIN:VCALENDAR
VERSION:2.0
PRODID:-//Talks.cam//talks.cam.ac.uk//
X-WR-CALNAME:Talks.cam
BEGIN:VEVENT
SUMMARY:Understanding Primate Signaling - James Higham\, University of Chi
 cago
DTSTART:20101109T160000Z
DTEND:20101109T170000Z
UID:TALK25804@talks.cam.ac.uk
CONTACT:Chris Jiggins
DESCRIPTION:Abstract not available
LOCATION:Part II Lecture Theatre\, Department of Zoology
END:VEVENT
END:VCALENDAR
