BEGIN:VCALENDAR
VERSION:2.0
PRODID:-//Talks.cam//talks.cam.ac.uk//
X-WR-CALNAME:Talks.cam
BEGIN:VEVENT
SUMMARY:Title to be confirmed - Yoshihiro Kawahara\, University of Tokyo\,
  Japan
DTSTART:20100924T130000Z
DTEND:20100924T140000Z
UID:TALK25966@talks.cam.ac.uk
CONTACT:Andrew Rice
DESCRIPTION:Abstract not available
LOCATION:FW26\, Computer Laboratory\, William Gates Builiding
END:VEVENT
END:VCALENDAR
