BEGIN:VCALENDAR
VERSION:2.0
PRODID:-//Talks.cam//talks.cam.ac.uk//
X-WR-CALNAME:Talks.cam
BEGIN:VEVENT
SUMMARY:The physics of nerves and lipid ion channels - Thomas Heimburg\, N
 iels Bohr Institute\, University of Copenhagen\, Denmark
DTSTART:20101208T113000Z
DTEND:20101208T123000Z
UID:TALK26157@talks.cam.ac.uk
CONTACT:Duncan Simpson
DESCRIPTION:The content will be about our recent intensive studies on elec
 tromechanical pulse propagation in biomembrane cylinders that explain many
  observations made on nerves\, and the simultaneously occurring current fl
 uctuations that are indistinguishable from protein channel events. It is a
  thermodynamic view on electrophysiology.
LOCATION:Seminar Room\, Centre for Physics of Medicine (PoM)
END:VEVENT
END:VCALENDAR
