BEGIN:VCALENDAR
VERSION:2.0
PRODID:-//Talks.cam//talks.cam.ac.uk//
X-WR-CALNAME:Talks.cam
BEGIN:VEVENT
SUMMARY:Preparing for our futures: what do YOU think? - Trevor Baker (Camb
 ridgeshire County Council)\, Joe Oldman (AgeUK)\, Prof Carol Brayne (Insti
 tute of Public Health)
DTSTART:20100921T173000Z
DTEND:20100921T203000Z
UID:TALK26312@talks.cam.ac.uk
CONTACT:Peter Landshoff
DESCRIPTION:An evening debate and workshop for local people\n\nIt is predi
 cted that in 15 years time 1 person in 5 will be over 65.\nHow should new 
 dwellings and communities be designed to\nprepare for that?\nHow will they
  be paid for?\n\n
LOCATION:Centre for Mathematical Sciences\, Wilberforce Road
END:VEVENT
END:VCALENDAR
