BEGIN:VCALENDAR
VERSION:2.0
PRODID:-//Talks.cam//talks.cam.ac.uk//
X-WR-CALNAME:Talks.cam
BEGIN:VEVENT
SUMMARY:Do we own our Bodies? More Thoughts on Property in the Person and 
 in the Body - Anne Phillips (LSE)
DTSTART:20101105T130000Z
DTEND:20101105T143000Z
UID:TALK26503@talks.cam.ac.uk
CONTACT:Dr Duncan Bell
DESCRIPTION:Abstract not available
LOCATION:Seminar Room G\, 17 Mill Lane
END:VEVENT
END:VCALENDAR
