BEGIN:VCALENDAR
VERSION:2.0
PRODID:-//Talks.cam//talks.cam.ac.uk//
X-WR-CALNAME:Talks.cam
BEGIN:VEVENT
SUMMARY:A numerical model for dyke propagation in presence of elastic\, de
 nsity and strength discontinuities - Francesco Maccaferri (University of B
 ologna)
DTSTART:20101117T163000Z
DTEND:20101117T173000Z
UID:TALK26517@talks.cam.ac.uk
CONTACT:Ed Nissen
DESCRIPTION:Abstract not available
LOCATION:Marine/Wolfson Building lecture hall
END:VEVENT
END:VCALENDAR
