BEGIN:VCALENDAR
VERSION:2.0
PRODID:-//Talks.cam//talks.cam.ac.uk//
X-WR-CALNAME:Talks.cam
BEGIN:VEVENT
SUMMARY:Unraveling the dynamics of subduction: models and plate motions - 
 Saskia Goes (Imperial College)
DTSTART:20101020T153000Z
DTEND:20101020T163000Z
UID:TALK26664@talks.cam.ac.uk
CONTACT:Ed Nissen
DESCRIPTION:Abstract not available
LOCATION:Marine/Wolfson Building lecture hall
END:VEVENT
END:VCALENDAR
