BEGIN:VCALENDAR
VERSION:2.0
PRODID:-//Talks.cam//talks.cam.ac.uk//
X-WR-CALNAME:Talks.cam
BEGIN:VEVENT
SUMMARY:Shell Lecture 2011 - Earthquakes and Tsunamis at Subduction Zones:
  The 2004-2005 Sumatra Earthquakes - Dr Lisa McNeill (National Oceanograph
 ic Centre\, Southampton)
DTSTART:20110216T173000Z
DTEND:20110216T183000Z
UID:TALK26718@talks.cam.ac.uk
CONTACT:Ed Nissen
DESCRIPTION:*NB: This seminar will be held in the main Department of Earth
  Sciences\, NOT at the Bullard Labs*\n\nIt will be preceeded by tea and bi
 scuits will be provided beforehand from 17:00 in the common room. There wi
 ll be a wine reception following the lecture. 
LOCATION:Tilley Lecture Theater\, Department of Earth Sciences
END:VEVENT
END:VCALENDAR
