BEGIN:VCALENDAR
VERSION:2.0
PRODID:-//Talks.cam//talks.cam.ac.uk//
X-WR-CALNAME:Talks.cam
BEGIN:VEVENT
SUMMARY:Sustainable Energy in the UK - Dr Bernie Bulkin\, Commissioner for
  Energy & Transport\, UK Sustainable Development Commission
DTSTART:20101115T193000Z
DTEND:20101115T210000Z
UID:TALK26793@talks.cam.ac.uk
CONTACT:Dr Nigel Bennee
DESCRIPTION:“This country has made some legal commitments: 15% of our en
 ergy from renewable sources by 2020\, 80% reduction in greenhouse gas emis
 sions by 2050.  Is this even possible?  And what would it mean?  This talk
  concentrates on new work related to the 2020 renewables target\, and will
  attempt to demonstrate that the target is both achievable and desirable. 
  \n\nIt will assert that while there are issues of sustainability connecte
 d with the transformation of our energy system\, the sustainability proble
 ms with not doing it are much worse.  The role of government in making thi
 s happen will be discussed.”\n
LOCATION:Wolfson Lecture Theatre\, Churchill College\, Storey's Way\, Camb
 ridge
END:VEVENT
END:VCALENDAR
