BEGIN:VCALENDAR
VERSION:2.0
PRODID:-//Talks.cam//talks.cam.ac.uk//
X-WR-CALNAME:Talks.cam
BEGIN:VEVENT
SUMMARY:Gate-dependent spin-orbit coupling in multi-electron carbon nanotu
 bes - Dr Casper Grove\, Niels Bohr Institute & Nanoscience Center\, Univer
 sity of Copenhagen
DTSTART:20101129T141500Z
DTEND:20101129T160000Z
UID:TALK27408@talks.cam.ac.uk
CONTACT:afw24
DESCRIPTION:Abstract not available
LOCATION:Mott Seminar Room\, Cavendish Laboratory\, Department of Physics
END:VEVENT
END:VCALENDAR
