BEGIN:VCALENDAR
VERSION:2.0
PRODID:-//Talks.cam//talks.cam.ac.uk//
X-WR-CALNAME:Talks.cam
BEGIN:VEVENT
SUMMARY:'Number\, Weight or Measure': Mapping Colonial Governmentality in 
 William Petty's Political Anatomy of Ireland - Nessa Cronin\, National Uni
 versity of Ireland\, Galway
DTSTART:20110510T163000Z
DTEND:20110510T180000Z
UID:TALK27528@talks.cam.ac.uk
CONTACT:Sarah Bendall
DESCRIPTION:Abstract not available
LOCATION:Emmanuel College (Gardner Room)
END:VEVENT
END:VCALENDAR
