BEGIN:VCALENDAR
VERSION:2.0
PRODID:-//Talks.cam//talks.cam.ac.uk//
X-WR-CALNAME:Talks.cam
BEGIN:VEVENT
SUMMARY:Does Adaptation to Climate Change Provide Food Security: Evidence 
 from Ethiopia - Dr. Salvatore Difalco\,  London School of Economics
DTSTART:20101201T160000Z
DTEND:20101201T170000Z
UID:TALK27610@talks.cam.ac.uk
CONTACT:Ellen Ihrig
DESCRIPTION:		
LOCATION:Mill Lane Lecture Rooms\, Room 9
END:VEVENT
END:VCALENDAR
