BEGIN:VCALENDAR
VERSION:2.0
PRODID:-//Talks.cam//talks.cam.ac.uk//
X-WR-CALNAME:Talks.cam
BEGIN:VEVENT
SUMMARY:The PROMISE RCT – a School-Based Cognitive Behaviour Therapy Int
 ervention for the Prevention of Depression in High-Risk Adolescents. - Dr 
 Kapil Sayal\, Senior Lecturer in Child and Adolescent Psychiatry and Neuro
 psychology\, University of Nottingham
DTSTART:20110504T113000Z
DTEND:20110504T123000Z
UID:TALK27622@talks.cam.ac.uk
CONTACT:22470
DESCRIPTION:Abstract not available
LOCATION:Large Meeting Room\, Douglas House\, 18B Trumpington Road\, Cambr
 idge
END:VEVENT
END:VCALENDAR
