BEGIN:VCALENDAR
VERSION:2.0
PRODID:-//Talks.cam//talks.cam.ac.uk//
X-WR-CALNAME:Talks.cam
BEGIN:VEVENT
SUMMARY:Case study: wave propagation through basalts in well VM1 - Jurg Sc
 huler
DTSTART:20101105T163000Z
DTEND:20101105T173000Z
UID:TALK27692@talks.cam.ac.uk
CONTACT:Jessica Irving
DESCRIPTION:Abstract not available
LOCATION:Tea Room\, Old House
END:VEVENT
END:VCALENDAR
