BEGIN:VCALENDAR
VERSION:2.0
PRODID:-//Talks.cam//talks.cam.ac.uk//
X-WR-CALNAME:Talks.cam
BEGIN:VEVENT
SUMMARY:The 2010 Decadal Survey: A Cambridge Perspective - Paul Alexander\
 , Rob Kennicutt and more...
DTSTART:20101126T140000Z
DTEND:20101126T173000Z
UID:TALK27720@talks.cam.ac.uk
CONTACT:Paula younger
DESCRIPTION:Full Programme can be found on the Kavli Institute for Cosmolo
 gy Website: www.kicc.cam.ac.uk
LOCATION:Martin Ryle Large Meeting Room\, KICC
END:VEVENT
END:VCALENDAR
