BEGIN:VCALENDAR
VERSION:2.0
PRODID:-//Talks.cam//talks.cam.ac.uk//
X-WR-CALNAME:Talks.cam
BEGIN:VEVENT
SUMMARY:Mobile phones based continuous sensing systems - Kiran Rachuri (Un
 iversity of Cambridge)
DTSTART:20101112T160000Z
DTEND:20101112T170000Z
UID:TALK27769@talks.cam.ac.uk
CONTACT:Nishanth Sastry
DESCRIPTION:This lecture will introduce the various sensors embedded in mo
 dern smart phones\, and possible application scenarios. Details about Emot
 ionSense\, a mobile phones based emotion sensing platform will be discusse
 d along with design techniques for energy efficient sensor sampling.
LOCATION:LT1\, Computer Laboratory\, William Gates Builiding
END:VEVENT
END:VCALENDAR
