BEGIN:VCALENDAR
VERSION:2.0
PRODID:-//Talks.cam//talks.cam.ac.uk//
X-WR-CALNAME:Talks.cam
BEGIN:VEVENT
SUMMARY:Protein folding landscapes by means of metadynamics simulations - 
 Dr Alessandro Barducci (ETH Zürich)
DTSTART:20101119T120000Z
DTEND:20101119T130000Z
UID:TALK27940@talks.cam.ac.uk
CONTACT:Dr Mark Miller
DESCRIPTION:Abstract not available
LOCATION:Unilever Lecture Theatre\, Department of Chemistry
END:VEVENT
END:VCALENDAR
