BEGIN:VCALENDAR
VERSION:2.0
PRODID:-//Talks.cam//talks.cam.ac.uk//
X-WR-CALNAME:Talks.cam
BEGIN:VEVENT
SUMMARY:Feminism\, pluralist democracy and agonistic politics - Professor 
 Chantal Mouffe\, Centre for the Study of Democracy\, University of Westmin
 ster
DTSTART:20110217T170000Z
DTEND:20110217T183000Z
UID:TALK28723@talks.cam.ac.uk
CONTACT:Susannah Lacon
DESCRIPTION:My presentation will examine the following question: How shoul
 d those whose aim is to foster a radical democratic project envisage the p
 ublic space. After having introduced the theoretical framework that inform
 s my argument and delineated the main points of my agonistic approach\, I 
 will distinguish my understanding of agonism from the one of Hannah Arendt
 . I will end by drawing some consequences of the different agonistic appro
 aches for feminist politics.
LOCATION: Faculty of Education\, 184 Hills Road\, Cambridge\, CB2 8PQ in r
 oom GS5
END:VEVENT
END:VCALENDAR
