BEGIN:VCALENDAR
VERSION:2.0
PRODID:-//Talks.cam//talks.cam.ac.uk//
X-WR-CALNAME:Talks.cam
BEGIN:VEVENT
SUMMARY: Urban water security - a possibility or pipedream? - Dr Kalanithy
  Vairavamoorthy\,          Director\, School of Global Sustainability\, Un
 iversity of South Florida
DTSTART:20110504T170000Z
DTEND:20110504T183000Z
UID:TALK28846@talks.cam.ac.uk
CONTACT:Dr Dick Fenner
DESCRIPTION:Dr. Vairavamoorthy is a specialist in urban water systems. Cur
 rently he is pursuing research in the following areas: \n• Development o
 f new techniques for the flexible design of urban water supply systems ope
 rating under uncertainties associated with global change. \n• Applicatio
 n of optimisation techniques for the operation & maintenance and life-cycl
 e management of urban water systems (incl. water pipe and sewer condition 
 assessment)\; \n• Development of risk assessment approach for the design
  of sustainable urban water systems operating in the ‘city of the future
 ’
LOCATION: Cambridge University Engineering Department\, LR0
END:VEVENT
END:VCALENDAR
