BEGIN:VCALENDAR
VERSION:2.0
PRODID:-//Talks.cam//talks.cam.ac.uk//
X-WR-CALNAME:Talks.cam
BEGIN:VEVENT
SUMMARY:Big Pink Read - Speaker to be confirmed
DTSTART:20110219T153000Z
DTEND:20110219T170000Z
UID:TALK28906@talks.cam.ac.uk
CONTACT:Equality & Diversity
DESCRIPTION:An LGB&T literary discussion to complement a month-long displa
 y of LGB&T books in the Central Library.
LOCATION:Conference Room\, 3rd Floor\, Central Library\, Cambridge CB2 3QD
END:VEVENT
END:VCALENDAR
