BEGIN:VCALENDAR
VERSION:2.0
PRODID:-//Talks.cam//talks.cam.ac.uk//
X-WR-CALNAME:Talks.cam
BEGIN:VEVENT
SUMMARY:A computer-vision based facial gesture switch - Emli-Mari Nel (Uni
 versity of Cambridge)
DTSTART:20110207T110000Z
DTEND:20110207T120000Z
UID:TALK28918@talks.cam.ac.uk
CONTACT:Emli-Mari Nel
DESCRIPTION:This is a follow-up talk on a computer-vision based facial ges
 ture switch for impaired users. The application is targeted at automatic h
 uman computer interaction for people who have locked-in syndrome. The talk
  will cover a brief algorithm overview and a demonstration. 
LOCATION:TCM Seminar Room\, Cavendish Laboratory\, Department of Physics
END:VEVENT
END:VCALENDAR
