BEGIN:VCALENDAR
VERSION:2.0
PRODID:-//Talks.cam//talks.cam.ac.uk//
X-WR-CALNAME:Talks.cam
BEGIN:VEVENT
SUMMARY:LEARNING HOW TO FEEL GOOD: UNDERSTANDING AND TREATING THE ANHEDONI
 C SYMPTOMS OF DEPRESSION - Dr. Barney Dunn (Medical Research Council - Cog
 nition and Brain Sciences Unit)
DTSTART:20110211T123000Z
DTEND:20110211T133000Z
UID:TALK29020@talks.cam.ac.uk
CONTACT:Dr. Ann-Marie J. Golden
DESCRIPTION:Abstract not available
LOCATION:Herchel Smith Building for Brain and Mind Sciences on the Forvie 
 Site at Addenbrooke’s Hospital in Cambridge. For directions see: http://
 tinyurl.com/27j5uyc
END:VEVENT
END:VCALENDAR
