BEGIN:VCALENDAR
VERSION:2.0
PRODID:-//Talks.cam//talks.cam.ac.uk//
X-WR-CALNAME:Talks.cam
BEGIN:VEVENT
SUMMARY:What Do Rabbits Want?: Assessing the Behavioural Needs of Pet Rabb
 its in the UK - Laura Dixon\, Scottish Agricultural College
DTSTART:20110124T163000Z
DTEND:20110124T180000Z
UID:TALK29169@talks.cam.ac.uk
CONTACT:Anthony Podberscek
DESCRIPTION:Abstract not available
LOCATION:Centre for Animal Welfare & Anthrozoology Seminar Room\, Veterina
 ry Medicine\, Department of
END:VEVENT
END:VCALENDAR
