BEGIN:VCALENDAR
VERSION:2.0
PRODID:-//Talks.cam//talks.cam.ac.uk//
X-WR-CALNAME:Talks.cam
BEGIN:VEVENT
SUMMARY:Educating Therapies? The School\, the Clinic and Psychopathologisa
 tion - Speaker to be confirmed
DTSTART:20110125T120000Z
DTEND:20110125T140000Z
UID:TALK29202@talks.cam.ac.uk
CONTACT:21999
DESCRIPTION:Educating Therapies? The School\, the Clinic and Psychopatholo
 gisation\nTuesday\, 25 Jan 2011\nDr Valerie Harwood (Faculty of Education 
 & Interdisciplinary Educational Research Institute\, University of Wollong
 on\, Australia))
LOCATION:CRASSH
END:VEVENT
END:VCALENDAR
