BEGIN:VCALENDAR
VERSION:2.0
PRODID:-//Talks.cam//talks.cam.ac.uk//
X-WR-CALNAME:Talks.cam
BEGIN:VEVENT
SUMMARY:A Theory of the Role of Memory in the Construction of History - Ga
 briel Motzkin (Van Leer Jerusalem Institute)
DTSTART:20110119T170000Z
DTEND:20110119T190000Z
UID:TALK29330@talks.cam.ac.uk
CONTACT:Jill Gather
DESCRIPTION:Abstract not available
LOCATION:CRASSH Seminar Room 17 Mill Lane
END:VEVENT
END:VCALENDAR
