BEGIN:VCALENDAR
VERSION:2.0
PRODID:-//Talks.cam//talks.cam.ac.uk//
X-WR-CALNAME:Talks.cam
BEGIN:VEVENT
SUMMARY:A report on the IAB/W3C Internet Privacy Workshop - Dr. David Evan
 s (Computer Laboratory)
DTSTART:20110201T130000Z
DTEND:20110201T140000Z
UID:TALK29370@talks.cam.ac.uk
CONTACT:Derek Gordon Murray
DESCRIPTION:Back in December I went to the IAB/W3C Internet Privacy Worksh
 op (http://www.iab.org/about/workshops/privacy/) at MIT. I'll outline what
  was said and where the emphasis lay.\nIn summary: the browser is really i
 mportant and authors of standards documents should include a section on re
 levance to privacy.
LOCATION:Computer Laboratory\, William Gates Building\, Room FW11
END:VEVENT
END:VCALENDAR
