BEGIN:VCALENDAR
VERSION:2.0
PRODID:-//Talks.cam//talks.cam.ac.uk//
X-WR-CALNAME:Talks.cam
BEGIN:VEVENT
SUMMARY:On geometric incidences - Solymosi\, J (British Columbia)
DTSTART:20110126T151500Z
DTEND:20110126T161500Z
UID:TALK29399@talks.cam.ac.uk
CONTACT:Mustapha Amrani
DESCRIPTION:2011/01/26
LOCATION:Seminar Room 1\, Newton Institute
END:VEVENT
END:VCALENDAR
