BEGIN:VCALENDAR
VERSION:2.0
PRODID:-//Talks.cam//talks.cam.ac.uk//
X-WR-CALNAME:Talks.cam
BEGIN:VEVENT
SUMMARY:Remarks on non-abelian duality - Minhyong Kim (University College 
 London)
DTSTART:20110222T161500Z
DTEND:20110222T171500Z
UID:TALK29433@talks.cam.ac.uk
CONTACT:Tom Fisher
DESCRIPTION:Abstract not available
LOCATION:MR13
END:VEVENT
END:VCALENDAR
