BEGIN:VCALENDAR
VERSION:2.0
PRODID:-//Talks.cam//talks.cam.ac.uk//
X-WR-CALNAME:Talks.cam
BEGIN:VEVENT
SUMMARY:Process\, Pragmatism and Critical Realism - Steve Peatten\, KIngs 
 College London
DTSTART:20110228T200000Z
DTEND:20110228T220000Z
UID:TALK29498@talks.cam.ac.uk
CONTACT:Cambridge Social Ontology Group
DESCRIPTION:Abstract not available
LOCATION:Clare College\, Trinity Lane Cambridge\, CB2 1TL\, in the Latimer
  Room\, in the Old Court
END:VEVENT
END:VCALENDAR
