BEGIN:VCALENDAR
VERSION:2.0
PRODID:-//Talks.cam//talks.cam.ac.uk//
X-WR-CALNAME:Talks.cam
BEGIN:VEVENT
SUMMARY:"Segmental labelling approaches for multi-domain proteins" - Bill 
 Broadhurst (RWB group)
DTSTART:20110315T160000Z
DTEND:20110315T170000Z
UID:TALK29540@talks.cam.ac.uk
CONTACT:Victor M. Bolanos-Garcia
DESCRIPTION:Abstract not available
LOCATION:Seminar Room\, Sanger Building
END:VEVENT
END:VCALENDAR
