BEGIN:VCALENDAR
VERSION:2.0
PRODID:-//Talks.cam//talks.cam.ac.uk//
X-WR-CALNAME:Talks.cam
BEGIN:VEVENT
SUMMARY:Workshop on Language Acquisition - Nick Ellis\, University of Mich
 igan\, and members of the Language Acquisition and Language Processing Res
 earch Cluster
DTSTART:20110314T140000Z
DTEND:20110314T173000Z
UID:TALK29690@talks.cam.ac.uk
CONTACT:Chris Cummins
DESCRIPTION:This workshop features a keynote speech by the invited speaker
 \, Nick Ellis\, on 'The Bounds of Second Language Acquisition: Learned Att
 ention'\, in addition to a range of talks by current students.\n\nThe Lang
 uage Acquisition and Language Processing (LALP) reseach cluster is a progr
 essive group of PhD candidate researchers from the Research Centre for Eng
 lish and Applied Linguistics (RCEAL) at the University of Cambridge. The c
 luster provides budding PhD candidates within the cluster a forum to prese
 nt their research and to interact with prominent members of the linguistic
  community.  For more information about the cluster\, visit "http://www.rc
 eal.cam.ac.uk/Research/lalp/index.html":http://www.rceal.cam.ac.uk/Researc
 h/lalp/index.html
LOCATION:GR-05\, English Faculty Building
END:VEVENT
END:VCALENDAR
