BEGIN:VCALENDAR
VERSION:2.0
PRODID:-//Talks.cam//talks.cam.ac.uk//
X-WR-CALNAME:Talks.cam
BEGIN:VEVENT
SUMMARY:Question Time: Islam Today & Tomorrow - Discussion Panel: Myriam F
 rancois-Cerrah\, Dilwar Hussain & Nabil Ahmed
DTSTART:20110219T193000Z
DTEND:20110219T203000Z
UID:TALK29871@talks.cam.ac.uk
CONTACT:Qamar Hussein
DESCRIPTION:Probing questions from the floor and panel on Jihad\, Women an
 d the role of religion in society
LOCATION:Bateman Auditorium\, Caius
END:VEVENT
END:VCALENDAR
