BEGIN:VCALENDAR
VERSION:2.0
PRODID:-//Talks.cam//talks.cam.ac.uk//
X-WR-CALNAME:Talks.cam
BEGIN:VEVENT
SUMMARY:A hot question in an age of global change: which model is the most
  sexy? - Yangchen Lin\, University of Cambridge
DTSTART:20110527T120000Z
DTEND:20110527T130000Z
UID:TALK30079@talks.cam.ac.uk
CONTACT:Tharsila Carranza
DESCRIPTION:Abstract not available
LOCATION:Basement Seminar Room\, Department of Zoology \, Downing Street\,
  CB2 3EJ
END:VEVENT
END:VCALENDAR
