BEGIN:VCALENDAR
VERSION:2.0
PRODID:-//Talks.cam//talks.cam.ac.uk//
X-WR-CALNAME:Talks.cam
BEGIN:VEVENT
SUMMARY:Rigid body motion in conformal geometric algebra - Patrick Welche 
 (University of Cambridge)
DTSTART:20110321T110000Z
DTEND:20110321T120000Z
UID:TALK30158@talks.cam.ac.uk
CONTACT:Emli-Mari Nel
DESCRIPTION:The series in geometric algebra continues\, showing how transl
 ations are represented by rotors in conformal geometric algebra. Pose esti
 mation may be touched on.
LOCATION:TCM Seminar Room\, Cavendish Laboratory\, Department of Physics
END:VEVENT
END:VCALENDAR
