BEGIN:VCALENDAR
VERSION:2.0
PRODID:-//Talks.cam//talks.cam.ac.uk//
X-WR-CALNAME:Talks.cam
BEGIN:VEVENT
SUMMARY:Laughter and Literary “Quality”: Friederike Kempner’s Recept
 ion as a Jewish writer\, the Genius of Involuntary Humour\, and Germany’
 s Worst Poet - Susanne Kord (UCL)
DTSTART:20110309T141500Z
DTEND:20110309T154500Z
UID:TALK30215@talks.cam.ac.uk
CONTACT:Lars Fischer
DESCRIPTION:Abstract not available
LOCATION:Faculty of Divinity (West Road)\, Room 2
END:VEVENT
END:VCALENDAR
