BEGIN:VCALENDAR
VERSION:2.0
PRODID:-//Talks.cam//talks.cam.ac.uk//
X-WR-CALNAME:Talks.cam
BEGIN:VEVENT
SUMMARY:CMS electricity usage: 7309.0 kWh on 06/03/11 - Previous day: 8145
 .5 kWh
DTSTART:20110308T010000Z
DTEND:20110308T020000Z
UID:TALK30217@talks.cam.ac.uk
CONTACT:Dankrad Feist
DESCRIPTION:
LOCATION:Average on Sundays: 7255.20731707 kWh
END:VEVENT
END:VCALENDAR
