BEGIN:VCALENDAR
VERSION:2.0
PRODID:-//Talks.cam//talks.cam.ac.uk//
X-WR-CALNAME:Talks.cam
BEGIN:VEVENT
SUMMARY:Time-series modelling of aggregated wind power output - Sturt\, A 
 (Heriot-Watt)
DTSTART:20110317T112000Z
DTEND:20110317T114000Z
UID:TALK30338@talks.cam.ac.uk
CONTACT:Mustapha Amrani
DESCRIPTION:2011/03/17
LOCATION:Seminar Room 1\, Newton Institute
END:VEVENT
END:VCALENDAR
