BEGIN:VCALENDAR
VERSION:2.0
PRODID:-//Talks.cam//talks.cam.ac.uk//
X-WR-CALNAME:Talks.cam
BEGIN:VEVENT
SUMMARY:HOARDING & CLUTTER: MAXIMISING THE BENEFITS OF CBT - Dr. Maria Wat
 son (North Shore Anxiety and Stress Clinic\, Vancouver\, Canada)
DTSTART:20110708T113000Z
DTEND:20110708T123000Z
UID:TALK30410@talks.cam.ac.uk
CONTACT:Dr. Ann-Marie J. Golden
DESCRIPTION:Abstract not available
LOCATION:Herchel Smith Building for Brain and Mind Sciences on the Forvie 
 Site at Addenbrooke’s Hospital in Cambridge. For directions see: http://
 tinyurl.com/27j5uyc
END:VEVENT
END:VCALENDAR
