BEGIN:VCALENDAR
VERSION:2.0
PRODID:-//Talks.cam//talks.cam.ac.uk//
X-WR-CALNAME:Talks.cam
BEGIN:VEVENT
SUMMARY:"Filled with Dissenters?" Cambridgeshire religion in 1851 - Prof D
 avid Thompson\, Emeritus Professor of Modern Church History
DTSTART:20120605T164500Z
DTEND:20120605T181500Z
UID:TALK30527@talks.cam.ac.uk
CONTACT:Dr Isabel DiVanna
DESCRIPTION:Abstract not available
LOCATION:Gatsby Room\, Wolfson College
END:VEVENT
END:VCALENDAR
