BEGIN:VCALENDAR
VERSION:2.0
PRODID:-//Talks.cam//talks.cam.ac.uk//
X-WR-CALNAME:Talks.cam
BEGIN:VEVENT
SUMMARY:CMS electricity usage: 8664.5 kWh on 29/03/11 - Previous day: 8730
 .0 kWh
DTSTART:20110331T000000Z
DTEND:20110331T010000Z
UID:TALK30560@talks.cam.ac.uk
CONTACT:Dankrad Feist
DESCRIPTION:
LOCATION:Average on weekdays: 9036.2662037 kWh
END:VEVENT
END:VCALENDAR
